BEGIN:VCALENDAR
VERSION:2.0
PRODID:-//ChamberMaster//Event Calendar 2.0//EN
METHOD:PUBLISH
X-PUBLISHED-TTL:P3D
REFRESH-INTERVAL:P3D
CALSCALE:GREGORIAN
BEGIN:VEVENT
DTSTART:20221022T220000Z
DTEND:20221023T020000Z
X-MICROSOFT-CDO-ALLDAYEVENT:FALSE
SUMMARY:Masquerade Fundraiser for Bardstown Theatricals LLC
DESCRIPTION:Please join Bardstown Theatricals for a glamorous evening in support of youth arts education and community theater. Enjoy open wine and signature cocktail bar\, heavy gourmet appetizers\, live musical entertainment\, silent auction\, bourbon pull\, and theatrical photo-booth. Dramatic cocktail attire preferred\, costume masks encouraged.
X-ALT-DESC;FMTTYPE=text/html:Please join Bardstown Theatricals for a glamorous evening in support of youth arts education and community theater. Enjoy open wine and signature cocktail bar\, heavy gourmet appetizers\, live musical entertainment\, silent auction\, bourbon pull\, and theatrical photo-booth. Dramatic cocktail attire preferred\, costume masks encouraged.
LOCATION:Held at the gracious home of Jack and Shelleyanne Rein: 3104 Yorkshire Drive in Bardstown\, KY 40004
UID:e.2912.3172
SEQUENCE:3
DTSTAMP:20260419T145452Z
URL:https://members.bardstownchamber.com/events/details/masquerade-fundraiser-for-bardstown-theatricals-llc-3172
END:VEVENT

END:VCALENDAR
