BEGIN:VCALENDAR
VERSION:2.0
PRODID:-//ChamberMaster//Event Calendar 2.0//EN
METHOD:PUBLISH
X-PUBLISHED-TTL:P3D
REFRESH-INTERVAL:P3D
CALSCALE:GREGORIAN
BEGIN:VEVENT
DTSTART:20251107T230000Z
DTEND:20251108T020000Z
X-MICROSOFT-CDO-ALLDAYEVENT:FALSE
SUMMARY:Manhunt & Murder: A Jesse James Murder Mystery
DESCRIPTION:Manhunt and Murder: Columbia Pictures is in Bardstown filming "Manhunt for an Outlaw!" The movie centers around the Pinkerton Detective Agency tracking down Jesse James. One of the Pinkertons believes that he is in Bardstown and runs into him at the Talbott Tavern where Jesse is staying. But the actor portraying Jesse is actually being targeted by one of the cast and crew for an assassination.\n\nHors D'oervres\, dinner\, water and tea are included. Cash bar available.\n\nMenu\n\nSalad\n\nHarvest Salad - Mixed Greens\, Chopped Apple\, Blue Cheese Crumbles\, Bacon and house made Maple Dijon Vinaigrette\n\nEntree (Choose One)\n\nVegetarian Option - Stuffed roasted peppers with herb & garlic white wine sauce.\n\nChicken - Pan Seared Chicken Breasts in herb & garlic white wine sauce\, with parmesan mashed potato and roasted carrots.\n\nDessert\n\nBread Pudding\n\nCocktail hour starts at 6:00. Dinner and show start at 6:30
X-ALT-DESC;FMTTYPE=text/html:<div class="xdj266r x14z9mp xat24cr x1lziwak x1vvkbs" style="overflow-wrap: break-word\; margin-inline: 0px\; margin-bottom: 0px\; margin-top: 0px\; font-family: system-ui\, -apple-system\, BlinkMacSystemFont\, &quot\;.SFNSText-Regular&quot\;\, sans-serif\; caret-color: rgb(8\, 8\, 9)\; color: rgb(8\, 8\, 9)\; font-size: 15px\;">Manhunt and Murder: Columbia Pictures is in Bardstown filming &quot\;Manhunt for an Outlaw!&quot\; The movie centers around the Pinkerton Detective Agency tracking down Jesse James. One of the Pinkertons believes that he is in Bardstown and runs into him at the Talbott Tavern where Jesse is staying. But the actor portraying Jesse is actually being targeted by one of the cast and crew for an assassination.</div>\n\n<div class="x14z9mp xat24cr x1lziwak x1vvkbs xtlvy1s" style="overflow-wrap: break-word\; margin-top: 0.5em\; margin-inline: 0px\; margin-bottom: 0px\; font-family: system-ui\, -apple-system\, BlinkMacSystemFont\, &quot\;.SFNSText-Regular&quot\;\, sans-serif\; caret-color: rgb(8\, 8\, 9)\; color: rgb(8\, 8\, 9)\; font-size: 15px\;">Hors D&#39\;oervres\, dinner\, water and tea are included. Cash bar available.</div>\n\n<div class="x14z9mp xat24cr x1lziwak x1vvkbs xtlvy1s" style="overflow-wrap: break-word\; margin-top: 0.5em\; margin-inline: 0px\; margin-bottom: 0px\; font-family: system-ui\, -apple-system\, BlinkMacSystemFont\, &quot\;.SFNSText-Regular&quot\;\, sans-serif\; caret-color: rgb(8\, 8\, 9)\; color: rgb(8\, 8\, 9)\; font-size: 15px\;">Menu<br class="html-br" />\nSalad<br class="html-br" />\nHarvest Salad - Mixed Greens\, Chopped Apple\, Blue Cheese Crumbles\, Bacon and house made Maple Dijon Vinaigrette<br class="html-br" />\nEntree (Choose One)<br class="html-br" />\nVegetarian Option - Stuffed roasted peppers with herb &amp\; garlic white wine sauce.<br class="html-br" />\nChicken - Pan Seared Chicken Breasts in herb &amp\; garlic white wine sauce\, with parmesan mashed potato and roasted carrots.</div>\n\n<div class="x14z9mp xat24cr x1lziwak x1vvkbs xtlvy1s" style="overflow-wrap: break-word\; margin-top: 0.5em\; margin-inline: 0px\; margin-bottom: 0px\; font-family: system-ui\, -apple-system\, BlinkMacSystemFont\, &quot\;.SFNSText-Regular&quot\;\, sans-serif\; caret-color: rgb(8\, 8\, 9)\; color: rgb(8\, 8\, 9)\; font-size: 15px\;">Dessert<br class="html-br" />\nBread Pudding</div>\n\n<div class="x14z9mp xat24cr x1lziwak x1vvkbs xtlvy1s" style="overflow-wrap: break-word\; margin-top: 0.5em\; margin-inline: 0px\; margin-bottom: 0px\; font-family: system-ui\, -apple-system\, BlinkMacSystemFont\, &quot\;.SFNSText-Regular&quot\;\, sans-serif\; caret-color: rgb(8\, 8\, 9)\; color: rgb(8\, 8\, 9)\; font-size: 15px\;">Cocktail hour starts at 6:00. Dinner and show start at 6:30</div>\n
LOCATION:The Old Talbott Tavern
UID:e.2912.3622
SEQUENCE:3
DTSTAMP:20260424T133924Z
URL:https://members.bardstownchamber.com/events/details/manhunt-murder-a-jesse-james-murder-mystery-3622
END:VEVENT

END:VCALENDAR
