BEGIN:VCALENDAR
VERSION:2.0
PRODID:-//ChamberMaster//Event Calendar 2.0//EN
METHOD:PUBLISH
X-PUBLISHED-TTL:P3D
REFRESH-INTERVAL:P3D
CALSCALE:GREGORIAN
BEGIN:VEVENT
DTSTART:20201015T130000Z
DTEND:20201015T153000Z
X-MICROSOFT-CDO-ALLDAYEVENT:FALSE
SUMMARY:Managing Conflict
DESCRIPTION:ECTC and the Bardstown Nelson County Chamber of Commerce has partnered to bring you this opportunity.\n\n\n\nLearning to deal with Conflict is crucial in any organization.\n\nLearn:\n\n\n	Techniques to resolve conflict\n	Deal with Anger\n	How to use the Agreement Frame
X-ALT-DESC;FMTTYPE=text/html:<p class="_04xlpA direction-ltr align-start para-style-body" style="line-height: 1.4\; font-family: &quot\;YACgEZ1cb1Q 0&quot\;\, _fb_\, auto\; font-size: 16.6859px\;"><br />\n<span style="font-size:14px\;"><span style="font-family:arial\;"><span class="JsGRdQ">ECTC and the Bardstown Nelson County Chamber of Commerce has partnered to bring you this opportunity.</span></span></span><br />\n<br />\n<span style="font-size:14px\;"><span style="font-family:arial\;"><span class="JsGRdQ" style="font-weight: 700\;">Learning to deal with Conflict is crucial in any organization.</span></span></span></p>\n\n<p class="_04xlpA direction-ltr align-start para-style-body" style="line-height: 1.4\; font-family: &quot\;YACgEZ1cb1Q 0&quot\;\, _fb_\, auto\; font-size: 12.5144px\;"><span style="font-size:14px\;"><span style="font-family:arial\;"><span class="JsGRdQ" style="font-weight: 700\;">Learn:</span></span></span></p>\n\n<ul>\n	<li><span style="font-size:14px\;"><span style="font-family:arial\;"><span class="JsGRdQ">Techniques&nbsp\;to resolve conflict</span></span></span></li>\n	<li><span style="font-size:14px\;"><span style="font-family:arial\;"><span class="JsGRdQ">Deal with Anger</span></span></span></li>\n	<li><span style="font-size:14px\;"><span style="font-family:arial\;">How to use the&nbsp\;Agreement Frame</span></span></li>\n</ul>\n
LOCATION:Classes will all be online
UID:e.2912.2893
SEQUENCE:3
DTSTAMP:20260419T215813Z
URL:https://members.bardstownchamber.com/events/details/managing-conflict-2893
END:VEVENT

END:VCALENDAR
