BEGIN:VCALENDAR
VERSION:2.0
PRODID:-//ChamberMaster//Event Calendar 2.0//EN
METHOD:PUBLISH
X-PUBLISHED-TTL:P3D
REFRESH-INTERVAL:P3D
CALSCALE:GREGORIAN
BEGIN:VEVENT
DTSTART:20181201T220000Z
DTEND:20181202T010000Z
X-MICROSOFT-CDO-ALLDAYEVENT:FALSE
SUMMARY:Makers Mark Candle light tour
DESCRIPTION:270-865-2099 for Questions. Tis the season to experience this after dark tour.
X-ALT-DESC;FMTTYPE=text/html:270-865-2099 for Questions. Tis the season to experience this after dark tour.&nbsp\;
LOCATION:
UID:e.2912.1637
SEQUENCE:3
DTSTAMP:20260419T145152Z
URL:https://members.bardstownchamber.com/events/details/makers-mark-candle-light-tour-1637
END:VEVENT

END:VCALENDAR
