BEGIN:VCALENDAR
VERSION:2.0
PRODID:-//ChamberMaster//Event Calendar 2.0//EN
METHOD:PUBLISH
X-PUBLISHED-TTL:P3D
REFRESH-INTERVAL:P3D
CALSCALE:GREGORIAN
BEGIN:VEVENT
DTSTART:20171110T000000Z
DTEND:20171110T030000Z
X-MICROSOFT-CDO-ALLDAYEVENT:FALSE
SUMMARY:Lux Row Welcoming Party
DESCRIPTION:We are excited to announce we are throwing a welcome party for our new neighbors\, Lux Row Distillers! Thursday\, Nov. 9th 7-10pm. Come shake hands with the owners & people in charge. We will be offering two of their best bourbons on special: Rebel Yell & Ezra Brooks cocktails for $4.00. Door prizes such as bar signs\, shirts\, koozies & much more!
X-ALT-DESC;FMTTYPE=text/html:We are excited to announce we are throwing a welcome party for our new neighbors\, Lux Row Distillers! Thursday\, Nov. 9th 7-10pm. Come shake hands with the owners &amp\; people in charge. We will be offering two of their best bourbons on special: Rebel Yell &amp\; Ezra Brooks cocktails for $4.00. Door prizes such as bar signs\, shirts\, koozies &amp\; much more!
LOCATION:Buffalo Wings & Rings 1012 Granite Dr Bardstown
UID:e.2912.1393
SEQUENCE:3
DTSTAMP:20260424T083049Z
URL:https://members.bardstownchamber.com/events/details/lux-row-welcoming-party-1393
END:VEVENT

END:VCALENDAR
