BEGIN:VCALENDAR
VERSION:2.0
PRODID:-//ChamberMaster//Event Calendar 2.0//EN
METHOD:PUBLISH
X-PUBLISHED-TTL:P3D
REFRESH-INTERVAL:P3D
CALSCALE:GREGORIAN
BEGIN:VEVENT
DTSTART:20181011T160000Z
DTEND:20181011T170000Z
X-MICROSOFT-CDO-ALLDAYEVENT:FALSE
SUMMARY:Lunch & Learn October 2018
DESCRIPTION:Speaker: Beth Cassity\,  Workforce Development Liason with Elizabethtown Community & Technical College\n\n\n\nThis workshop will explore Employee Engagement. Learn how building a culture that promotes employee motivation to  perform at high levels offers employee fulfillment-satisfaction in their position that results in employee retention.
X-ALT-DESC;FMTTYPE=text/html:<span style="font-size:18px\;">Speaker: Beth Cassity\,&nbsp\; Workforce Development Liason with Elizabethtown Community &amp\; Technical College<br />\n<br />\nThis workshop will explore Employee Engagement. Learn how building a culture that promotes employee motivation to&nbsp\; perform at high levels offers employee fulfillment-satisfaction in their position that results in employee retention.<br />\n&nbsp\;</span><br />\n&nbsp\;
LOCATION:Bardstown Country Club at Maywood 130 Maywood Ave. Bardstown\, KY 40004
UID:e.2912.1434
SEQUENCE:3
DTSTAMP:20260419T194306Z
URL:https://members.bardstownchamber.com/events/details/lunch-learn-october-2018-1434
END:VEVENT

END:VCALENDAR
