BEGIN:VCALENDAR
VERSION:2.0
PRODID:-//ChamberMaster//Event Calendar 2.0//EN
METHOD:PUBLISH
X-PUBLISHED-TTL:P3D
REFRESH-INTERVAL:P3D
CALSCALE:GREGORIAN
BEGIN:VEVENT
DTSTART:20171005T160000Z
DTEND:20171005T170000Z
X-MICROSOFT-CDO-ALLDAYEVENT:FALSE
SUMMARY:Lunch & Learn October 2017
DESCRIPTION:Cameron Mills is a former University of Kentucky basketball player that won two national titles in 1996 & 1998.  Cameron currently travels across the United States using his platform as a former Kentucky Wildcat\, to speak to groups about character development\, individual excellence\, leadership\, and influence.
X-ALT-DESC;FMTTYPE=text/html:Cameron Mills is a former University of Kentucky basketball player that won two national titles in 1996 &amp\; 1998. &nbsp\;Cameron currently travels across the United States using his platform as a former Kentucky Wildcat\, to speak to groups about character development\, individual excellence\, leadership\, and influence. &nbsp\;
LOCATION:My Old Kentucky Home State Park 501 E Stephen Foster Ave. Bardstown\, KY 40004
UID:e.2912.1383
SEQUENCE:3
DTSTAMP:20260424T104154Z
URL:https://members.bardstownchamber.com/events/details/lunch-learn-october-2017-1383
END:VEVENT

END:VCALENDAR
