BEGIN:VCALENDAR
VERSION:2.0
PRODID:-//ChamberMaster//Event Calendar 2.0//EN
METHOD:PUBLISH
X-PUBLISHED-TTL:P3D
REFRESH-INTERVAL:P3D
CALSCALE:GREGORIAN
BEGIN:VEVENT
DTSTART:20170511T160000Z
DTEND:20170511T170000Z
X-MICROSOFT-CDO-ALLDAYEVENT:FALSE
SUMMARY:Lunch & Learn May 2017
DESCRIPTION:Brittany Young who was featured on the Hallmark's Channel Home and Family Show\, WBKO MidDay Live and Nashville's Talk of the Town will speak at the Lunch & Learn. Brittany is an on Air Lifestyle Expert\, Facebook Live Guru\, and founder of a DIY\, craft & lifestyle blog! Brittany has worked with big name brands like Hobby Lobby and now has a coaching program for other creative entrepreneurs.
X-ALT-DESC;FMTTYPE=text/html:<span style="language:en-US\;"><span style="color:#2A3C5C\;"><span style="font-family:calibri\;">Brittany Young who was featured on the Hallmark&#39\;s Channel Home and Family Show\, WBKO MidDay Live and Nashville&#39\;s Talk of the Town will speak at the Lunch &amp\; Learn. </span></span></span><span style="language:en-US\;"><span style="color:#2A3C5C\;"><span style="font-family:calibri\;">Brittany is an on Air Lifestyle Expert\, Facebook Live Guru\, and founder of a DIY\, craft &amp\; lifestyle blog! Brittany has worked with big name brands like Hobby Lobby and now has a coaching&nbsp\;program for other creative entrepreneurs.</span></span></span>
LOCATION:Bardstown Country Club at Maywood
UID:e.2912.360
SEQUENCE:3
DTSTAMP:20260424T155510Z
URL:https://members.bardstownchamber.com/events/details/lunch-learn-may-2017-360
END:VEVENT

END:VCALENDAR
