BEGIN:VCALENDAR
VERSION:2.0
PRODID:-//ChamberMaster//Event Calendar 2.0//EN
METHOD:PUBLISH
X-PUBLISHED-TTL:P3D
REFRESH-INTERVAL:P3D
CALSCALE:GREGORIAN
BEGIN:VEVENT
DTSTART:20180315T160000Z
DTEND:20180315T170000Z
X-MICROSOFT-CDO-ALLDAYEVENT:FALSE
SUMMARY:Lunch & Learn March 2018
DESCRIPTION:Leading in a Multi-Generational Economy\n\nSponsored by Wilson & Muir Bank & Trust\n\nSpeaker: Jay McChord\n\n\n\nBorn in Lexington\, Kentucky\, Jay graduated from the University of Kentucky in 1991 where he distinguished himself athletically by becoming a three-year letterman at UK as the University's Wildcat mascot\, the first in the school's history to place in national competitions. Jay brings a unique understanding\, perspective and insight to the process of problem solving in today's economy and workplace. Along with serving on numerous charitable boards\, Jay has served four terms on the Lexington Fayette-Urban County Council in Kentucky. In addition\, Jay illustrated and authored "A Veteran's Legacy." This book is a journal for retired and active military members to share their experiences and legacy with family\, friends and community members. Jay McChord brings a wealth of creativity\, energy\, and insight to solving problems in todays' workplace and he has a message for every individual.
X-ALT-DESC;FMTTYPE=text/html:<strong><em><span style="font-size:13.5pt\;">Leading in a Multi-Generational Economy<br />\nSponsored by Wilson &amp\; Muir Bank &amp\; Trust</span></em></strong><br />\n<span style="font-size:14px\;"><span style="font-family:arial\;"><span style="color:#000000\;"><span style="font-size:16px\;">Speaker: Jay McChord</span><br />\n<br />\n<span class="color_15" style="margin: 0px\; padding: 0px\; border: 0px\; outline: 0px\; vertical-align: baseline\; background-image: initial\; background-position: initial\; background-size: initial\; background-repeat: initial\; background-attachment: initial\; background-origin: initial\; background-clip: initial\;">Born in</span>&nbsp\;<span class="color_15" style="margin: 0px\; padding: 0px\; border: 0px\; outline: 0px\; vertical-align: baseline\; background-image: initial\; background-position: initial\; background-size: initial\; background-repeat: initial\; background-attachment: initial\; background-origin: initial\; background-clip: initial\;">Lexington\, Kentucky\, Jay graduated from the University of Kentucky in 1991 where he distinguished himself athletically by becoming a three-year letterman at UK as the University&#39\;s Wildcat mascot\, the first in the school&#39\;s history to place in national competitions.&nbsp\;</span></span></span></span><span style="color: rgb(0\, 0\, 0)\; font-family: arial\; font-size: 14px\;">Jay brings a unique understanding\, perspective and insight to the process of problem solving in today&#39\;s economy and workplace. Along with serving on numerous charitable boards\, Jay has served four terms on the Lexington Fayette-Urban County Council in Kentucky.&nbsp\;</span><span style="color: rgb(0\, 0\, 0)\; font-family: arial\; font-size: 14px\;">In addition\, Jay illustrated and authored &quot\;A Veteran&#39\;s Legacy.&quot\; This book is a journal for retired and active military members to share their experiences and legacy with family\, friends and community members.&nbsp\;</span><span style="font-size:14px\;"><span style="font-family:arial\;"><span style="color:#000000\;">Jay McChord brings a wealth of creativity\, energy\, and insight to solving problems in todays&#39\; workplace and he has a message for every individual.</span></span></span>
LOCATION:Bardstown Event Center 111 North 4th Street Bardstown KY 40004 US
UID:e.2912.1417
SEQUENCE:3
DTSTAMP:20260420T040138Z
URL:https://members.bardstownchamber.com/events/details/lunch-learn-march-2018-1417
END:VEVENT

END:VCALENDAR
