BEGIN:VCALENDAR
VERSION:2.0
PRODID:-//ChamberMaster//Event Calendar 2.0//EN
METHOD:PUBLISH
X-PUBLISHED-TTL:P3D
REFRESH-INTERVAL:P3D
CALSCALE:GREGORIAN
BEGIN:VEVENT
DTSTART:20170711T160000Z
DTEND:20170711T170000Z
X-MICROSOFT-CDO-ALLDAYEVENT:FALSE
SUMMARY:Lunch & Learn July 2017
DESCRIPTION:Join us as Justin Patton\, International Speaker & Executive Leadership Coach helps you "Get Out of Your Own Way & Leverage Your Emotional Intelligence".  Justin has managed & coached top fortune 500 companies.
X-ALT-DESC;FMTTYPE=text/html:Join us as Justin Patton\, International Speaker &amp\; Executive Leadership Coach helps you &quot\;Get Out of Your Own Way &amp\; Leverage Your Emotional Intelligence&quot\;. &nbsp\;Justin has managed &amp\; coached top fortune 500 companies. &nbsp\;
LOCATION:Bardstown Country Club at Maywood 130 Maywood Ave. Bardstown\, KY 40004
UID:e.2912.377
SEQUENCE:3
DTSTAMP:20260424T143629Z
URL:https://members.bardstownchamber.com/events/details/lunch-learn-july-2017-377
END:VEVENT

END:VCALENDAR
