BEGIN:VCALENDAR
VERSION:2.0
PRODID:-//ChamberMaster//Event Calendar 2.0//EN
METHOD:PUBLISH
X-PUBLISHED-TTL:P3D
REFRESH-INTERVAL:P3D
CALSCALE:GREGORIAN
BEGIN:VEVENT
DTSTART:20180809T160000Z
DTEND:20180809T170000Z
X-MICROSOFT-CDO-ALLDAYEVENT:FALSE
SUMMARY:Lunch & Learn August 2018
DESCRIPTION:Outsmarting Invisible Mind Blocks\n\nPresented by Steve Haffner\n\n\n\nJoin us in exploring how professionals can improve their decision skills\, effectiveness\, and relationships\,. Guest Speaker\, Stever Haffner uses entertaining segments of psychological illusion to highlight key points\, making the program not only educational\, but entertainingly engaging as well.
X-ALT-DESC;FMTTYPE=text/html:<p class="font9" style="margin:0in\;margin-bottom:.0001pt\;line-height:16.8pt\;\nvertical-align:baseline"><span style="font-size:14px\;"><span style="font-family:arial\;"><span style="border: 1pt none windowtext\; padding: 0in\;"><span style="font-size:16px\;">Outsmarting Invisible Mind Blocks<br />\nPresented by Steve Haffner</span><br />\n<br />\nJoin us in exploring how professionals can improve their decision skills\, effectiveness\, and relationships\,. Guest Speaker\, Stever Haffner uses entertaining segments of psychological illusion to highlight key points\, making the program not only educational\, but entertainingly engaging as well.&nbsp\;</span></span></span></p>\n
LOCATION:Bardstown Country Club at Maywood 130 Maywood Avenue Bardstown\, KY 40004
UID:e.2912.1432
SEQUENCE:3
DTSTAMP:20260419T211522Z
URL:https://members.bardstownchamber.com/events/details/lunch-learn-august-2018-1432
END:VEVENT

END:VCALENDAR
