BEGIN:VCALENDAR
VERSION:2.0
PRODID:-//ChamberMaster//Event Calendar 2.0//EN
METHOD:PUBLISH
X-PUBLISHED-TTL:P3D
REFRESH-INTERVAL:P3D
CALSCALE:GREGORIAN
BEGIN:VEVENT
DTSTART:20161201T170000Z
DTEND:20161201T180000Z
X-MICROSOFT-CDO-ALLDAYEVENT:FALSE
SUMMARY:Lunch and Learn Membership Meeting/ December 2016
DESCRIPTION:Come join us for lunch at The Bardstown Country Club at Maywood. This is a great networking opportunity for ALL members of the Chamber.
X-ALT-DESC;FMTTYPE=text/html:Come join us for lunch at The Bardstown Country Club at Maywood. This is&nbsp\;a great networking opportunity for ALL members of the Chamber.
LOCATION:Bardstown Country Club at Maywood.
UID:e.2912.214
SEQUENCE:3
DTSTAMP:20260424T225849Z
URL:https://members.bardstownchamber.com/events/details/lunch-and-learn-membership-meeting-december-2016-214
END:VEVENT

END:VCALENDAR
