BEGIN:VCALENDAR
VERSION:2.0
PRODID:-//ChamberMaster//Event Calendar 2.0//EN
METHOD:PUBLISH
X-PUBLISHED-TTL:P3D
REFRESH-INTERVAL:P3D
CALSCALE:GREGORIAN
BEGIN:VEVENT
DTSTART:20200605T160000Z
DTEND:20200605T220000Z
X-MICROSOFT-CDO-ALLDAYEVENT:FALSE
SUMMARY:Louisville City Football Club Blood Drive
DESCRIPTION:We're calling on you to help save lives!\n\nJoin us in saving lives\, by donating blood at the Lynn Family Stadium Fifth Third Clubhouse\, Friday\, June 5 from 12 to 6pm.\n\nAll donors will receive a 10%  discount at the Louisville City FC merchandise store and a limited edition KBC t-shirt.\,plus get a chance to win a $500 gift card. BY APPOINTMENT ONLY. Call Kentucky Blood Center at 1-800-775-2522 or visit kybloodcenter.org.
X-ALT-DESC;FMTTYPE=text/html:We&#39\;re calling on you to help save lives!<br />\nJoin us in saving lives\, by donating blood at the Lynn Family Stadium Fifth Third Clubhouse\, Friday\, June 5 from 12 to 6pm.<br />\nAll donors will receive a 10%&nbsp\; discount at the Louisville City FC merchandise store and a limited edition KBC t-shirt.\,plus get a chance to win a $500 gift card. BY APPOINTMENT ONLY. Call Kentucky Blood Center at 1-800-775-2522 or visit kybloodcenter.org.
LOCATION:Lynn Family Stadium Fifth Third Clubhouse 305 Adams Street Louisville\, KY 40206
UID:e.2912.2866
SEQUENCE:3
DTSTAMP:20260420T040522Z
URL:https://members.bardstownchamber.com/events/details/louisville-city-football-club-blood-drive-06-05-2020-2866
END:VEVENT

END:VCALENDAR
