BEGIN:VCALENDAR
VERSION:2.0
PRODID:-//ChamberMaster//Event Calendar 2.0//EN
METHOD:PUBLISH
X-PUBLISHED-TTL:P3D
REFRESH-INTERVAL:P3D
CALSCALE:GREGORIAN
BEGIN:VEVENT
DTSTART:20171130T210000Z
DTEND:20171201T030000Z
X-MICROSOFT-CDO-ALLDAYEVENT:FALSE
SUMMARY:Logan Chevalier Fundraiser
DESCRIPTION:Buffalo Wings & Rings Bardstown\, Ky is a proud support of our local community. Come out and help us show love & support for to Logan Chevalier and his family as they fight his battle against leukemia. 15% of your purchase will go to Logan to help with his medical cost & other needs associated with his treatment. Be sure to mention this event for your purchase to be included. Dine in or carry out! We will be selling Logan shirts & bracelets too. Landon Helton has donated his time to play live music from 6-9pm to entertain us all.
X-ALT-DESC;FMTTYPE=text/html:Buffalo Wings &amp\; Rings Bardstown\, Ky is a proud support of our local community. Come out and help us show love &amp\; support for to Logan Chevalier and his family as they fight his battle against leukemia. 15% of your purchase will go to Logan to help with his medical cost &amp\; other needs associated with his treatment. Be sure to mention this event for your purchase to be included. Dine in or carry out! We will be selling Logan shirts &amp\; bracelets too. Landon Helton has donated his time to play live music from 6-9pm to entertain us all.
LOCATION:Buffalo Wings & Rings Bardstown\, Ky
UID:e.2912.1399
SEQUENCE:3
DTSTAMP:20260424T082110Z
URL:https://members.bardstownchamber.com/events/details/logan-chevalier-fundraiser-1399
END:VEVENT

END:VCALENDAR
