BEGIN:VCALENDAR
VERSION:2.0
PRODID:-//ChamberMaster//Event Calendar 2.0//EN
METHOD:PUBLISH
X-PUBLISHED-TTL:P3D
REFRESH-INTERVAL:P3D
CALSCALE:GREGORIAN
BEGIN:VEVENT
DTSTART:20171215T230000Z
DTEND:20171217T010000Z
X-MICROSOFT-CDO-ALLDAYEVENT:FALSE
SUMMARY:Live Nativity
DESCRIPTION:This annual and time honored event takes place on the front lawn of the church and features live animals and church members recreating the manger scene and the birth of Jesus.
X-ALT-DESC;FMTTYPE=text/html:This annual and time honored event takes place on the front lawn of the church and features live animals and church members recreating the manger scene and the birth of Jesus.
LOCATION:Bardstown Baptist Church 101 W. Brashear Avenue
UID:e.2912.1411
SEQUENCE:3
DTSTAMP:20260422T082458Z
URL:https://members.bardstownchamber.com/events/details/live-nativity-1411
END:VEVENT

END:VCALENDAR
