BEGIN:VCALENDAR
VERSION:2.0
PRODID:-//ChamberMaster//Event Calendar 2.0//EN
METHOD:PUBLISH
X-PUBLISHED-TTL:P3D
REFRESH-INTERVAL:P3D
CALSCALE:GREGORIAN
BEGIN:VEVENT
DTSTART:20210821T000000Z
DTEND:20210821T030000Z
X-MICROSOFT-CDO-ALLDAYEVENT:FALSE
SUMMARY:Little River Band: Live at The Amp at Dant Crossing
DESCRIPTION:www.ticketmaster.com/little-river-band-new-haven-kentucky-08-20-2021/event/16005AF3A4FF27F5
X-ALT-DESC;FMTTYPE=text/html:<span style="color: rgb(101\, 103\, 107)\; font-family: &quot\;Segoe UI Historic&quot\;\, &quot\;Segoe UI&quot\;\, Helvetica\, Arial\, sans-serif\; font-size: 13px\; background-color: rgb(255\, 255\, 255)\;">www.ticketmaster.com/little-river-band-new-haven-kentucky-08-20-2021/event/16005AF3A4FF27F5</span>
LOCATION:Log Still Distillery
UID:e.2912.3013
SEQUENCE:3
DTSTAMP:20260424T230111Z
URL:https://members.bardstownchamber.com/events/details/little-river-band-live-at-the-amp-at-dant-crossing-3013
END:VEVENT

END:VCALENDAR
