BEGIN:VCALENDAR
VERSION:2.0
PRODID:-//ChamberMaster//Event Calendar 2.0//EN
METHOD:PUBLISH
X-PUBLISHED-TTL:P3D
REFRESH-INTERVAL:P3D
CALSCALE:GREGORIAN
BEGIN:VEVENT
DTSTART:20180914T220000Z
DTEND:20180915T040000Z
X-MICROSOFT-CDO-ALLDAYEVENT:FALSE
SUMMARY:Limestone Branch Bourbon Luau
DESCRIPTION:Let's get tropical! Shop Local Bardstown and My Old Kentucky Home Country Club proudly present The Limestone Branch Distillery Luau during the 2018 Kentucky Bourbon Festival in historic Bardstown KY! Join Master Distiller Steve Beam for a tasting of his award winning Yellowstone Bourbon and Minor Case Rye Whiskey\, enjoy a pig roast\, limbo contest\, limited edition prizes\, signature craft cocktails\, and bring your bathing suit for the swimming pool! Enjoy a night out with Lebanon\, KY's premier craft distillery and great food! This event will take place on Friday Sept 14th\, 2018 and is open to the public! For ticket purchases or information\, contact My Old Kentucky Home Country Club at (502) 348-3528. Discounted ticket pricing is available for Club Members! Must be 21 years old to attend!
X-ALT-DESC;FMTTYPE=text/html:Let&rsquo\;s get tropical! Shop Local Bardstown and My Old Kentucky Home Country Club proudly present The Limestone Branch Distillery Luau during the 2018 Kentucky Bourbon Festival in historic Bardstown KY! Join Master Distiller Steve Beam for a tasting of his award winning Yellowstone Bourbon and Minor Case Rye Whiskey\, enjoy a pig roast\, limbo contest\, limited edition prizes\, signature craft cocktails\, and bring your bathing suit for the swimming pool! Enjoy a night out with Lebanon\, KY&rsquo\;s premier craft distillery and great food! This event will take place on Friday Sept 14th\, 2018 and is open to the public! For ticket purchases or information\, contact My Old Kentucky Home Country Club at (502) 348-3528. Discounted ticket pricing is available for Club Members! Must be 21 years old to attend!
LOCATION:My Old Kentucky Home Country Club
UID:e.2912.1554
SEQUENCE:3
DTSTAMP:20260419T195551Z
URL:https://members.bardstownchamber.com/events/details/limestone-branch-bourbon-luau-1554
END:VEVENT

END:VCALENDAR
