BEGIN:VCALENDAR
VERSION:2.0
PRODID:-//ChamberMaster//Event Calendar 2.0//EN
METHOD:PUBLISH
X-PUBLISHED-TTL:P3D
REFRESH-INTERVAL:P3D
CALSCALE:GREGORIAN
BEGIN:VEVENT
DTSTART:20181123T230000Z
DTEND:20181124T010000Z
X-MICROSOFT-CDO-ALLDAYEVENT:FALSE
SUMMARY:Light Up Bardstown with Christmas Corner
DESCRIPTION:Santa is coming to town for the 8th annual light up bardstown.  Bring the family and friends  as we light up bardstown's  chirtsmas tree lets kick off the holiday season.
X-ALT-DESC;FMTTYPE=text/html:Santa is coming to town for the 8th annual light up bardstown.&nbsp\; Bring the family and friends&nbsp\; as we light up bardstown&#39\;s&nbsp\; chirtsmas tree lets kick off the holiday season.&nbsp\;
LOCATION:
UID:e.2912.1586
SEQUENCE:3
DTSTAMP:20260419T163551Z
URL:https://members.bardstownchamber.com/events/details/light-up-bardstown-with-christmas-corner-1586
END:VEVENT

END:VCALENDAR
