BEGIN:VCALENDAR
VERSION:2.0
PRODID:-//ChamberMaster//Event Calendar 2.0//EN
METHOD:PUBLISH
X-PUBLISHED-TTL:P3D
REFRESH-INTERVAL:P3D
CALSCALE:GREGORIAN
BEGIN:VEVENT
DTSTART:20180914T133000Z
DTEND:20180914T173000Z
X-MICROSOFT-CDO-ALLDAYEVENT:FALSE
SUMMARY:Let's Talk Bourbon®
DESCRIPTION:Start your day with an authentic Kentucky Bourbon experience! Learn about the history and process of making Kentucky Bourbon from the experts at Four Roses Distillery. Tour of the distillery and a enjoy a bountiful Kentucky breakfast buffet.
X-ALT-DESC;FMTTYPE=text/html:Start your day with an authentic Kentucky Bourbon experience! Learn about the history and process of making Kentucky Bourbon from the experts at Four Roses Distillery. Tour of the distillery and a enjoy a bountiful Kentucky breakfast buffet.
LOCATION:Four Roses Distillery\, 1224 Bonds Mill Rd.\, Lawrenceburg\, KY
UID:e.2912.1494
SEQUENCE:3
DTSTAMP:20260419T211558Z
URL:https://members.bardstownchamber.com/events/details/let-s-talk-bourbon-1494
END:VEVENT

END:VCALENDAR
