BEGIN:VCALENDAR
VERSION:2.0
PRODID:-//ChamberMaster//Event Calendar 2.0//EN
METHOD:PUBLISH
X-PUBLISHED-TTL:P3D
REFRESH-INTERVAL:P3D
CALSCALE:GREGORIAN
BEGIN:VEVENT
DTSTART:20180517T210000Z
DTEND:20180517T230000Z
X-MICROSOFT-CDO-ALLDAYEVENT:FALSE
SUMMARY:Ladies Night at the Range
DESCRIPTION:Ladies Night is the 3rd Thursday of the month from 5pm-7pm at the Kentucky Gun Co. Indoor Range. Ladies come in and take advantage of these specials:\n\n  1/2 price range fees from 5-7pm\n\n  FREE firearms rentals from 5-7pm\n\n(ammo must be purchased from KyGunCo)\n\n  FREE instruction\n\n  Range Saftey Officers (RSO's)\n\n  Bring your own guns or rent\n\n  Guys are welcome\, but only ladies get the specials\n\n\n\nrange.kygunco.com
X-ALT-DESC;FMTTYPE=text/html:<span style="color: rgb(75\, 79\, 86)\; font-family: Helvetica\, Arial\, sans-serif\; font-size: 14px\; background-color: rgb(255\, 255\, 255)\;">Ladies Night is the 3rd Thursday of the month from 5pm-7pm at the Kentucky Gun Co. Indoor Range. Ladies come in and take advantage of these specials:</span><br style="color: rgb(75\, 79\, 86)\; font-family: Helvetica\, Arial\, sans-serif\; font-size: 14px\; background-color: rgb(255\, 255\, 255)\;" />\n<span style="color: rgb(75\, 79\, 86)\; font-family: Helvetica\, Arial\, sans-serif\; font-size: 14px\; background-color: rgb(255\, 255\, 255)\;">&bull\; 1/2 price range fees from 5-7pm</span><br style="color: rgb(75\, 79\, 86)\; font-family: Helvetica\, Arial\, sans-serif\; font-size: 14px\; background-color: rgb(255\, 255\, 255)\;" />\n<span style="color: rgb(75\, 79\, 86)\; font-family: Helvetica\, Arial\, sans-serif\; font-size: 14px\; background-color: rgb(255\, 255\, 255)\;">&bull\; FREE firearms rentals from 5-7pm</span><br style="color: rgb(75\, 79\, 86)\; font-family: Helvetica\, Arial\, sans-serif\; font-size: 14px\; background-color: rgb(255\, 255\, 255)\;" />\n<span style="color: rgb(75\, 79\, 86)\; font-family: Helvetica\, Arial\, sans-serif\; font-size: 14px\; background-color: rgb(255\, 255\, 255)\;">(ammo must be purchased from KyGunCo)</span><br style="color: rgb(75\, 79\, 86)\; font-family: Helvetica\, Arial\, sans-serif\; font-size: 14px\; background-color: rgb(255\, 255\, 255)\;" />\n<span style="color: rgb(75\, 79\, 86)\; font-family: Helvetica\, Arial\, sans-serif\; font-size: 14px\; background-color: rgb(255\, 255\, 255)\;">&bull\; FREE instruction</span><br style="color: rgb(75\, 79\, 86)\; font-family: Helvetica\, Arial\, sans-serif\; font-size: 14px\; background-color: rgb(255\, 255\, 255)\;" />\n<span style="color: rgb(75\, 79\, 86)\; font-family: Helvetica\, Arial\, sans-serif\; font-size: 14px\; background-color: rgb(255\, 255\, 255)\;">&bull\; Range Saftey Officers (RSO&#39\;s)</span><br style="color: rgb(75\, 79\, 86)\; font-family: Helvetica\, Arial\, sans-serif\; font-size: 14px\; background-color: rgb(255\, 255\, 255)\;" />\n<span style="color: rgb(75\, 79\, 86)\; font-family: Helvetica\, Arial\, sans-serif\; font-size: 14px\; background-color: rgb(255\, 255\, 255)\;">&bull\; Bring your own guns or rent</span><br style="color: rgb(75\, 79\, 86)\; font-family: Helvetica\, Arial\, sans-serif\; font-size: 14px\; background-color: rgb(255\, 255\, 255)\;" />\n<span style="color: rgb(75\, 79\, 86)\; font-family: Helvetica\, Arial\, sans-serif\; font-size: 14px\; background-color: rgb(255\, 255\, 255)\;">&bull\; Guys are welcome\, but only ladies get the specials</span><br style="color: rgb(75\, 79\, 86)\; font-family: Helvetica\, Arial\, sans-serif\; font-size: 14px\; background-color: rgb(255\, 255\, 255)\;" />\n<br style="color: rgb(75\, 79\, 86)\; font-family: Helvetica\, Arial\, sans-serif\; font-size: 14px\; background-color: rgb(255\, 255\, 255)\;" />\n<a data-lynx-mode="asynclazy" href="https://l.facebook.com/l.php?u=http%3A%2F%2Frange.kygunco.com%2F&amp\;h=ATPH8YwekHVL4QiZ5pIpWFNBRf-3voP1VH5UD7NFt82FNadHLc8SJ_9IMMR8XlPeSEDkvAqLnyyeDhD3XPygifQvCZ0r1To1cel1PJNLLoO89ojhYgY" rel="nofollow noopener" style="color: rgb(54\, 88\, 153)\; cursor: pointer\; text-decoration-line: none\; font-family: Helvetica\, Arial\, sans-serif\; font-size: 14px\; background-color: rgb(255\, 255\, 255)\;" target="_blank">range.kygunco.com</a>
LOCATION:Kentucky Gun Co. 401 Glenwood Dr\, Bardstown\, Kentucky 40004
UID:e.2912.1458
SEQUENCE:3
DTSTAMP:20260420T011536Z
URL:https://members.bardstownchamber.com/events/details/ladies-night-at-the-range-1458
END:VEVENT

END:VCALENDAR
