BEGIN:VCALENDAR
VERSION:2.0
PRODID:-//ChamberMaster//Event Calendar 2.0//EN
METHOD:PUBLISH
X-PUBLISHED-TTL:P3D
REFRESH-INTERVAL:P3D
CALSCALE:GREGORIAN
BEGIN:VEVENT
DTSTART:20180928T160000Z
DTEND:20180928T170000Z
X-MICROSOFT-CDO-ALLDAYEVENT:FALSE
SUMMARY:KORT Physical Therapy Lunch N' Learn
DESCRIPTION:Everyone is invited to a Lunch N' Learn as Cancer Rehab specialist Melanie Booker\, PT\, DPT\, OCS will present on the ReVital Cancer Rehab Program\, and how we can help Survivors and those who are currently undergoing treatment.
X-ALT-DESC;FMTTYPE=text/html:<div style="background:#eee\;border:1px solid #ccc\;padding:5px 10px\;"><big><var>Everyone is invited to a Lunch N&#39\; Learn as Cancer Rehab specialist Melanie Booker\, PT\, DPT\, OCS will present on the ReVital Cancer Rehab Program\, and how we can help Survivors and those who are currently undergoing treatment.&nbsp\;</var></big></div>\n
LOCATION:KORT Bardstown 875 Pennsylvania Ave Bardstown\, KY 40004
UID:e.2912.1593
SEQUENCE:3
DTSTAMP:20260419T211712Z
URL:https://members.bardstownchamber.com/events/details/kort-physical-therapy-lunch-n-learn-1593
END:VEVENT

END:VCALENDAR
