BEGIN:VCALENDAR
VERSION:2.0
PRODID:-//ChamberMaster//Event Calendar 2.0//EN
METHOD:PUBLISH
X-PUBLISHED-TTL:P3D
REFRESH-INTERVAL:P3D
CALSCALE:GREGORIAN
BEGIN:VEVENT
DTSTART:20180510T220000Z
DTEND:20180511T010000Z
X-MICROSOFT-CDO-ALLDAYEVENT:FALSE
SUMMARY:Kona Ice
DESCRIPTION:Kona Ice will be at Dean watts from 6 to 9 for games during the week be sure to check them out!
X-ALT-DESC;FMTTYPE=text/html:Kona Ice will be at Dean watts from 6 to 9 for games during the week be sure to check them out!
LOCATION:
UID:e.2912.1465
SEQUENCE:3
DTSTAMP:20260420T023022Z
URL:https://members.bardstownchamber.com/events/details/kona-ice-1465
END:VEVENT

END:VCALENDAR
