BEGIN:VCALENDAR
VERSION:2.0
PRODID:-//ChamberMaster//Event Calendar 2.0//EN
METHOD:PUBLISH
X-PUBLISHED-TTL:P3D
REFRESH-INTERVAL:P3D
CALSCALE:GREGORIAN
BEGIN:VEVENT
DTSTART:20180724T210000Z
DTEND:20180724T230000Z
X-MICROSOFT-CDO-ALLDAYEVENT:FALSE
SUMMARY:Kindergarten Kickoff
DESCRIPTION:Incoming Kindergarten students and their families get to meet their teachers. Community partners and school resources will be on hand with information. Local vendors will be present selling spirit wear as well.
X-ALT-DESC;FMTTYPE=text/html:<span style="color: rgb(29\, 33\, 41)\; font-family: Helvetica\, Arial\, sans-serif\; font-size: 14px\; background-color: rgb(255\, 255\, 255)\;">Incoming Kindergarten students and their families get to meet their teachers. Community partners and school resources will be on hand with information. Local vendors will be present selling spirit wear as well.</span>
LOCATION:pin Bardstown Primary School 1000 Templin Ave\, Bardstown\, Kentucky 40004
UID:e.2912.1528
SEQUENCE:3
DTSTAMP:20260419T224441Z
URL:https://members.bardstownchamber.com/events/details/kindergarten-kickoff-1528
END:VEVENT

END:VCALENDAR
