BEGIN:VCALENDAR
VERSION:2.0
PRODID:-//ChamberMaster//Event Calendar 2.0//EN
METHOD:PUBLISH
X-PUBLISHED-TTL:P3D
REFRESH-INTERVAL:P3D
CALSCALE:GREGORIAN
BEGIN:VEVENT
DTSTART:20180927T190000Z
DTEND:20180927T230000Z
X-MICROSOFT-CDO-ALLDAYEVENT:FALSE
SUMMARY:Kids Day
DESCRIPTION:Kids Day at Bardstown City Hall on the Lawn! Free to Every child in Nelson county\, Face painting Bounce house and more
X-ALT-DESC;FMTTYPE=text/html:Kids Day at Bardstown City Hall on the Lawn! Free to Every child in Nelson county\, Face painting Bounce house and more&nbsp\;
LOCATION:
UID:e.2912.1595
SEQUENCE:3
DTSTAMP:20260419T211634Z
URL:https://members.bardstownchamber.com/events/details/kids-day-1595
END:VEVENT

END:VCALENDAR
