BEGIN:VCALENDAR
VERSION:2.0
PRODID:-//ChamberMaster//Event Calendar 2.0//EN
METHOD:PUBLISH
X-PUBLISHED-TTL:P3D
REFRESH-INTERVAL:P3D
CALSCALE:GREGORIAN
BEGIN:VEVENT
DTSTART:20180519T140000Z
DTEND:20180519T170000Z
X-MICROSOFT-CDO-ALLDAYEVENT:FALSE
SUMMARY:Kid's Firearms Safety Course
DESCRIPTION:It's important to educate your children about firearms safety. Bourbon City Firearms will be hosting a Kids Firearms Safety event on May 19th. Be sure to sign up as space is limited. Lunch will be provided. \n\n\n\n\n\nCost Of This Course Will Be To Bring 2 can Food Items To Be Donated To Bread for Life Community Food Bank
X-ALT-DESC;FMTTYPE=text/html:<span style="color: rgb(75\, 79\, 86)\; font-family: Helvetica\, Arial\, sans-serif\; font-size: 14px\; background-color: rgb(255\, 255\, 255)\;">It&#39\;s important to educate your children about firearms safety. Bourbon City Firearms will be hosting a Kids Firearms Safety event on May 19th. Be sure to sign up as space is limited. Lunch will be provided.&nbsp\;</span><br style="color: rgb(75\, 79\, 86)\; font-family: Helvetica\, Arial\, sans-serif\; font-size: 14px\; background-color: rgb(255\, 255\, 255)\;" />\n<br style="color: rgb(75\, 79\, 86)\; font-family: Helvetica\, Arial\, sans-serif\; font-size: 14px\; background-color: rgb(255\, 255\, 255)\;" />\n<br style="color: rgb(75\, 79\, 86)\; font-family: Helvetica\, Arial\, sans-serif\; font-size: 14px\; background-color: rgb(255\, 255\, 255)\;" />\n<span style="color: rgb(75\, 79\, 86)\; font-family: Helvetica\, Arial\, sans-serif\; font-size: 14px\; background-color: rgb(255\, 255\, 255)\;">Cost Of This Course Will Be To Bring 2 can Food Items To Be Donated To Bread for Life Community Food Bank</span>
LOCATION:
UID:e.2912.1472
SEQUENCE:3
DTSTAMP:20260420T010750Z
URL:https://members.bardstownchamber.com/events/details/kid-s-firearms-safety-course-1472
END:VEVENT

END:VCALENDAR
