BEGIN:VCALENDAR
VERSION:2.0
PRODID:-//ChamberMaster//Event Calendar 2.0//EN
METHOD:PUBLISH
X-PUBLISHED-TTL:P3D
REFRESH-INTERVAL:P3D
CALSCALE:GREGORIAN
BEGIN:VEVENT
DTSTART:20190926T190000Z
DTEND:20190926T220000Z
X-MICROSOFT-CDO-ALLDAYEVENT:FALSE
SUMMARY:Kid's Day! Sponsored by Bardstown Rotary Club
DESCRIPTION:Free to every child in Nelson County.  Face Painting\, Bouncy Houses\, Arts\, Crafts\, Ice Cream and more!  Sponsored by the Bardstown Rotary Club
X-ALT-DESC;FMTTYPE=text/html:Free to every child in Nelson County.&nbsp\; Face Painting\, Bouncy Houses\, Arts\, Crafts\, Ice Cream and more!&nbsp\; Sponsored by the Bardstown Rotary Club
LOCATION:Bardstown City Hall Lawn
UID:e.2912.1795
SEQUENCE:3
DTSTAMP:20260419T133049Z
URL:https://members.bardstownchamber.com/events/details/kid-s-day-sponsored-by-bardstown-rotary-club-1795
END:VEVENT

END:VCALENDAR
