BEGIN:VCALENDAR
VERSION:2.0
PRODID:-//ChamberMaster//Event Calendar 2.0//EN
METHOD:PUBLISH
X-PUBLISHED-TTL:P3D
REFRESH-INTERVAL:P3D
CALSCALE:GREGORIAN
BEGIN:VEVENT
DTSTART:20200422T160000Z
DTEND:20200422T170000Z
X-MICROSOFT-CDO-ALLDAYEVENT:FALSE
SUMMARY:Kentucky SBDC Weekly Webinar
DESCRIPTION:Join us each Wednesday at Noon as we share updated information and resources for Kentucky small businesses dealing with the COVID-19 public health crisis\n\n\n\nRegister Here\n\nhttps://event.webinarjam.com/register/7/k68k0fq
X-ALT-DESC;FMTTYPE=text/html:<span style="font-size:18px\;"><span style="font-family:arial\;"><span style="color: rgb(97\, 97\, 97)\; background-color: rgb(255\, 255\, 255)\;">Join us each Wednesday at Noon as we share updated information and resources for Kentucky small businesses dealing with the COVID-19 public health crisis</span><br />\n<br />\n<span style="color: rgb(51\, 51\, 51)\; background-color: rgb(255\, 255\, 255)\;">Register Here</span><br style="color: rgb(51\, 51\, 51)\; font-family: sans-serif\, Arial\, Verdana\, &quot\;Trebuchet MS&quot\;\; font-size: 13px\;" />\n<a href="https://event.webinarjam.com/register/7/k68k0fq" style="color: rgb(7\, 130\, 193)\; font-family: sans-serif\, Arial\, Verdana\, &quot\;Trebuchet MS&quot\;\; font-size: 13px\;">https://event.webinarjam.com/register/7/k68k0fq</a></span></span>
LOCATION:Register Here https://event.webinarjam.com/register/7/k68k0fq
UID:e.2912.2853
SEQUENCE:3
DTSTAMP:20260420T000017Z
URL:https://members.bardstownchamber.com/events/details/kentucky-sbdc-weekly-webinar-04-22-2020-2853
END:VEVENT

END:VCALENDAR
