BEGIN:VCALENDAR
VERSION:2.0
PRODID:-//ChamberMaster//Event Calendar 2.0//EN
METHOD:PUBLISH
X-PUBLISHED-TTL:P3D
REFRESH-INTERVAL:P3D
CALSCALE:GREGORIAN
BEGIN:VEVENT
DTSTART:20180406T170000Z
DTEND:20180406T183000Z
X-MICROSOFT-CDO-ALLDAYEVENT:FALSE
SUMMARY:Kentucky Railway Museum’s Spring Break Express
DESCRIPTION:HAPPY SPRING BREAK! Enjoy a train ride with your kids during their Spring Break. Ride last about 1.5 hours. Cost is $19 for adults and $14 for children ages 2-12\, under 2 is free. 136 S. Main St.\, New Haven. 502-549-5470 or 800-272-0152. www.kyrail.org
X-ALT-DESC;FMTTYPE=text/html:<span style="display: inline !important\; float: none\; background-color: transparent\; color: rgb(0\, 0\, 0)\; font-family: &quot\;museo-sans&quot\;\,Helvetica\,sans-serif\; font-size: 12.66px\; font-style: normal\; font-variant: normal\; font-weight: 400\; letter-spacing: normal\; line-height: 19px\; orphans: 2\; text-align: left\; text-decoration: none\; text-indent: 0px\; text-shadow: none\; text-transform: none\; -webkit-text-stroke-width: 0px\; white-space: normal\; word-spacing: 0px\;">HAPPY SPRING BREAK! Enjoy a train ride with your kids during their Spring Break. Ride last about 1.5 hours. Cost is $19 for adults and $14 for children ages 2-12\, under 2 is free. 136 S. Main St.\, New Haven. 502-549-5470 or 800-272-0152. www.kyrail.org</span>
LOCATION:
UID:e.2912.1445
SEQUENCE:3
DTSTAMP:20260420T023131Z
URL:https://members.bardstownchamber.com/events/details/kentucky-railway-museum-s-spring-break-express-1445
END:VEVENT

END:VCALENDAR
