BEGIN:VCALENDAR
VERSION:2.0
PRODID:-//ChamberMaster//Event Calendar 2.0//EN
METHOD:PUBLISH
X-PUBLISHED-TTL:P3D
REFRESH-INTERVAL:P3D
CALSCALE:GREGORIAN
BEGIN:VEVENT
DTSTART:20201117T160000Z
DTEND:20201117T170000Z
X-MICROSOFT-CDO-ALLDAYEVENT:FALSE
SUMMARY:Kentucky Minority Women Business Enterprise Certification Program\, hosted by Mercer Chamber of Commerce
DESCRIPTION:2. Kentucky Minority Women Business Enterprise (MWBE) Certification Program. Tuesday\, November 17.  Time: 11:00 AM - 12:00 PM (EST). \n\nRegister- https://kysbdc.ecenterdirect.com/events/9281
X-ALT-DESC;FMTTYPE=text/html:<span style="font-family:arial\;"><span style="font-size: 12pt\;">2.&nbsp\;</span><b style="font-family: Arial\, sans-serif\; font-size: 12pt\;">Kentucky Minority Women Business Enterprise (MWBE) Certification Program.&nbsp\;</b><span style="font-size: 12pt\;">Tuesday\, November 17.&nbsp\; Time:&nbsp\;11:00 AM - 12:00 PM (EST).&nbsp\;<br />\nRegister-&nbsp\;</span><span style="font-size:18px\;">https://kysbdc.ecenterdirect.com/events/9281</span></span>\n<div>&nbsp\;</div>\n
LOCATION:Online
UID:e.2912.2898
SEQUENCE:3
DTSTAMP:20260424T081655Z
URL:https://members.bardstownchamber.com/events/details/kentucky-minority-women-business-enterprise-certification-program-hosted-by-mercer-chamber-of-commerce-2898
END:VEVENT

END:VCALENDAR
