BEGIN:VCALENDAR
VERSION:2.0
PRODID:-//ChamberMaster//Event Calendar 2.0//EN
METHOD:PUBLISH
X-PUBLISHED-TTL:P3D
REFRESH-INTERVAL:P3D
CALSCALE:GREGORIAN
BEGIN:VEVENT
DTSTART:20181017T133000Z
DTEND:20181017T160000Z
X-MICROSOFT-CDO-ALLDAYEVENT:FALSE
SUMMARY:Kentucky/ Indiana Foot and Ankle Specialists Ribbon Cutting
DESCRIPTION:We would like to invite everyone to come out to 935 Chambers Boulevard in Bardstown and help us celebrate our Bardstown office's opening! We will hold our ribbon cutting ceremony on October 17th at 9:30am. We hope to see you there!
X-ALT-DESC;FMTTYPE=text/html:<span style="color: rgb(29\, 33\, 41)\; font-family: Helvetica\, Arial\, sans-serif\; font-size: 14px\; background-color: rgb(255\, 255\, 255)\;">We would like to invite everyone to come out to 935 Chambers Boulevard in Bardstown and help us celebrate our Bardstown office&#39\;s opening! We will hold our ribbon cutting ceremony on October 17th at 9:30am. We hope to see you there!</span>
LOCATION:
UID:e.2912.1606
SEQUENCE:3
DTSTAMP:20260419T182206Z
URL:https://members.bardstownchamber.com/events/details/kentucky-indiana-foot-and-ankle-specialists-ribbon-cutting-1606
END:VEVENT

END:VCALENDAR
