BEGIN:VCALENDAR
VERSION:2.0
PRODID:-//ChamberMaster//Event Calendar 2.0//EN
METHOD:PUBLISH
X-PUBLISHED-TTL:P3D
REFRESH-INTERVAL:P3D
CALSCALE:GREGORIAN
BEGIN:VEVENT
DTSTART;VALUE=DATE:20180505
DTEND;VALUE=DATE:20180506
TRANSP:TRANSPARENT
X-MICROSOFT-CDO-ALLDAYEVENT:TRUE
SUMMARY:Kentucky Derby
DESCRIPTION:Churchill Downs\, the world's most legendary racetrack\, has conducted thoroughbred racing and presented America's greatest race\, the Kentucky Derby\, continuously since 1875.
X-ALT-DESC;FMTTYPE=text/html:<span style="color: rgba(0\, 0\, 0\, 0.75)\; font-family: museo-sans\, &quot\;Helvetica Neue&quot\;\, sans-serif\; font-size: 15px\; background-color: rgb(255\, 255\, 255)\;">Churchill Downs\, the world&#39\;s most legendary racetrack\, has conducted thoroughbred racing and presented America&#39\;s greatest race\, the Kentucky Derby\, continuously since 1875.</span>
LOCATION:Kentucky Derby 700 Central Ave\, Louisville\, KY\, 40208 Phone: 502.636.4400
UID:e.2912.1460
SEQUENCE:3
DTSTAMP:20260420T010701Z
URL:https://members.bardstownchamber.com/events/details/kentucky-derby-1460
END:VEVENT

END:VCALENDAR
