BEGIN:VCALENDAR
VERSION:2.0
PRODID:-//ChamberMaster//Event Calendar 2.0//EN
METHOD:PUBLISH
X-PUBLISHED-TTL:P3D
REFRESH-INTERVAL:P3D
CALSCALE:GREGORIAN
BEGIN:VEVENT
DTSTART:20180726T200000Z
DTEND:20180726T210000Z
X-MICROSOFT-CDO-ALLDAYEVENT:FALSE
SUMMARY:Kentucky Bourbon Market Place Ribbon Cutting
DESCRIPTION:Ribbion Cutting and Grand Opening
X-ALT-DESC;FMTTYPE=text/html:Ribbion Cutting and Grand Opening&nbsp\;
LOCATION:
UID:e.2912.1531
SEQUENCE:3
DTSTAMP:20260419T225341Z
URL:https://members.bardstownchamber.com/events/details/kentucky-bourbon-market-place-ribbon-cutting-1531
END:VEVENT

END:VCALENDAR
