BEGIN:VCALENDAR
VERSION:2.0
PRODID:-//ChamberMaster//Event Calendar 2.0//EN
METHOD:PUBLISH
X-PUBLISHED-TTL:P3D
REFRESH-INTERVAL:P3D
CALSCALE:GREGORIAN
BEGIN:VEVENT
DTSTART:20180915T120000Z
DTEND:20180915T170000Z
X-MICROSOFT-CDO-ALLDAYEVENT:FALSE
SUMMARY:Kentucky Bourbon Festival® Golf Tournament
DESCRIPTION:Come out and play in this four-person scramble! Distillery and Open divisions. Limited availability.
X-ALT-DESC;FMTTYPE=text/html:Come out and play in this four-person scramble! Distillery and Open divisions. Limited availability.
LOCATION:Bardstown Country Club at Maywood\, 130 Maywood Ave.\, Bardstown\, KY
UID:e.2912.1504
SEQUENCE:3
DTSTAMP:20260419T200106Z
URL:https://members.bardstownchamber.com/events/details/kentucky-bourbon-festival-golf-tournament-1504
END:VEVENT

END:VCALENDAR
