BEGIN:VCALENDAR
VERSION:2.0
PRODID:-//ChamberMaster//Event Calendar 2.0//EN
METHOD:PUBLISH
X-PUBLISHED-TTL:P3D
REFRESH-INTERVAL:P3D
CALSCALE:GREGORIAN
BEGIN:VEVENT
DTSTART:20180912T230000Z
DTEND:20180913T013000Z
X-MICROSOFT-CDO-ALLDAYEVENT:FALSE
SUMMARY:Kentucky Bourbon All Star Sampler®
DESCRIPTION:Join the Kentucky Distillers' Association for a rare evening featuring the KDA Master Distillers under one roof\, as well as Kentucky's craft distilleries and their innovative brands. Sample iconic Bourbons while enjoying genuine Kentucky cuisine and music. Must be 21. Registration required.
X-ALT-DESC;FMTTYPE=text/html:Join the Kentucky Distillers&rsquo\; Association for a rare evening featuring the KDA Master Distillers under one roof\, as well as Kentucky&rsquo\;s craft distilleries and their innovative brands. Sample iconic Bourbons while enjoying genuine Kentucky cuisine and music. Must be 21. Registration required.
LOCATION:Guthrie Opportunity Center\, 900 Nutter Drive\, Bardstown\, KY 40004
UID:e.2912.1485
SEQUENCE:3
DTSTAMP:20260419T211614Z
URL:https://members.bardstownchamber.com/events/details/kentucky-bourbon-all-star-sampler-1485
END:VEVENT

END:VCALENDAR
