BEGIN:VCALENDAR
VERSION:2.0
PRODID:-//ChamberMaster//Event Calendar 2.0//EN
METHOD:PUBLISH
X-PUBLISHED-TTL:P3D
REFRESH-INTERVAL:P3D
CALSCALE:GREGORIAN
BEGIN:VEVENT
DTSTART:20210504T130000Z
DTEND:20210504T220000Z
X-MICROSOFT-CDO-ALLDAYEVENT:FALSE
SUMMARY:Kentucky Blood Center Mother’s Day Texas Roadhouse Gift Cards (Donor Centers)
DESCRIPTION:Donate to help someone's mother. Donate to give a mommy more time with her child who is fighting cancer. Donate to make your own mom proud. Or simply donate and treat yourself to a nice dinner!\n\nWhatever your reason\, now is a great time to make a life-saving blood donation. Kentucky hospitals are transfusing more blood than ever before and Kentucky patients need your life-saving gift.\n\nTo thank you for your generosity\, you'll receive a $15 Texas Roadhouse gift card and a coupon for a Free Appetizer when you donate at any KBC donor center May 3-8.\n\nAppointments preferred. To schedule an appointment\, click on the link for your preferred location below or call 800-775-2522. Walk-ins permitted as space allows. Masks are required. Please bring photo ID.
X-ALT-DESC;FMTTYPE=text/html:<p>Donate to help someone&rsquo\;s mother. Donate to give a mommy more time with her child who is fighting cancer. Donate to make your own mom proud. Or simply donate and treat yourself to a nice dinner!</p>\n\n<p>Whatever your reason\, now is a great time to make a life-saving blood donation. Kentucky hospitals are transfusing more blood than ever before and Kentucky patients need your life-saving gift.</p>\n\n<p>To thank you for your generosity\, you&rsquo\;ll receive&nbsp\;<strong>a $15 Texas Roadhouse gift card and a coupon for a Free Appetizer</strong>&nbsp\;when you donate at any KBC donor center&nbsp\;<strong>May 3-8</strong>.</p>\n\n<p>Appointments preferred. To schedule an appointment\, click on the link for your preferred location below or call 800-775-2522. Walk-ins permitted as space allows. Masks are required. Please bring photo ID.</p>\n
LOCATION:5406 Antle Drive or 12905 Shelbyville Road
UID:e.2912.2970
SEQUENCE:3
DTSTAMP:20260425T030034Z
URL:https://members.bardstownchamber.com/events/details/kentucky-blood-center-mother-s-day-texas-roadhouse-gift-cards-donor-centers-05-04-2021-2970
END:VEVENT

END:VCALENDAR
