BEGIN:VCALENDAR
VERSION:2.0
PRODID:-//ChamberMaster//Event Calendar 2.0//EN
METHOD:PUBLISH
X-PUBLISHED-TTL:P3D
REFRESH-INTERVAL:P3D
CALSCALE:GREGORIAN
BEGIN:VEVENT
DTSTART:20180427T230000Z
DTEND:20180429T030000Z
X-MICROSOFT-CDO-ALLDAYEVENT:FALSE
SUMMARY:Kentucky Black Caucus
DESCRIPTION:Come and walk the Black Carpet with KBC-LEO in Bourbon Capital-Bardstown KY Friday April 27\,2018. You have the opportunity to taste some of the best bourbon in the state. DJ Party AllWKND is sure to have the dance floor packed with the best of best grown folks music. We work hard and play harder so come out and network with the movers and shakers from all over Kentuckiana. See you there.
X-ALT-DESC;FMTTYPE=text/html:<span style="color: rgb(75\, 79\, 86)\; font-family: Helvetica\, Arial\, sans-serif\; font-size: 14px\; background-color: rgb(255\, 255\, 255)\;">Come and walk the Black Carpet with KBC-LEO in Bourbon Capital-Bardstown KY Friday April 27\,2018. You have the opportunity to taste some of the best bourbon in the state. DJ Party AllWKND is sure to have the dance floor packed with the best of best grown folks music. We work hard and play harder so come out and network with the movers and shakers from all over Kentuckiana. See you there.</span>
LOCATION:179 w Mulberry Alley\, Bardstown Ky\, 40004
UID:e.2912.1450
SEQUENCE:3
DTSTAMP:20260420T023109Z
URL:https://members.bardstownchamber.com/events/details/kentucky-black-caucus-1450
END:VEVENT

END:VCALENDAR
