BEGIN:VCALENDAR
VERSION:2.0
PRODID:-//ChamberMaster//Event Calendar 2.0//EN
METHOD:PUBLISH
X-PUBLISHED-TTL:P3D
REFRESH-INTERVAL:P3D
CALSCALE:GREGORIAN
BEGIN:VEVENT
DTSTART:20200414T170000Z
DTEND:20200414T180000Z
X-MICROSOFT-CDO-ALLDAYEVENT:FALSE
SUMMARY:Keeping the Lights On- Build a Business Resiliency Plan with Google
DESCRIPTION:An actionable business resiliency plan could mean the difference between business continuity or closure.\n\nJoin Grow with Google and America's SBDC for a no-cost Business Resiliency webinar\, "Keeping the Lights On". This webinar includes an introduction to a 25-page guide to help small business owners prepare to respond quickly and recover from disruptions. Webinar participants will receive the 'Business Resiliency Guide' and a 'Business Resiliency Plan' template they can customize to meet the specific needs of their business.\n\n \n\nKeeping the Lights On will cover how to:\n\n  Identify your critical resources\n\n  Plan to use alternative resources\n\n  Respond with your plan\n\n  Bring your business back to normal\n\n \n\nIncludes FAQs from previous webinars\n\n \n\nThis webinar will not cover information regarding the current disaster loans. Please go to sba.gov for current Coronavirus relief options.\n\n \n\nGrow with Google will help you :\n\n \n\n  Discover Google tools that can help you work and manage your business during this time of uncertainty\n\n  Get insights on more online and timely resources for small businesses\n\n \n\nThis webinar takes place at 1:00 p.m. EDT\n\n \n\nA Zoom webinar link will be included in reminder emails before the event.\n\n \n\nZoom security protocols now require each participant have a Zoom account and be signed into their account from their computer or mobile device. https://zoom.us/\n\n\n\nGoogle partner hosting this event:\n\nWashington SBDC State Office\n\n\n\nAdditional Partners:\n\nAmerica's SBDC Grow with Google
X-ALT-DESC;FMTTYPE=text/html:<div class="slds-p-around_medium slds-size_12-of-12" data-aura-rendered-by="530:0" style="box-sizing: border-box\; padding: 1rem\; width: 861.328px\; flex: 0 0 auto\; color: rgb(65\, 65\, 65)\; font-family: &quot\;Google Sans&quot\;\, Roboto\, Arial\, sans-serif\; font-size: 13px\; background-color: rgb(255\, 255\, 255)\;"><lightning-formatted-rich-text class="slds-rich-text-editor__output cGYBO_Base cGYBO_EventDetailBase" data-aura-class="cGYBO_Base cGYBO_EventDetailBase" data-aura-rendered-by="523:0" data-data-rendering-service-uid="96" style="box-sizing: border-box\; line-height: 1.375\; overflow-wrap: break-word\; hyphens: manual\;">\n<p style="box-sizing: border-box\; margin: 0px\; padding: 0px\;"><span style="box-sizing: border-box\;">An actionable business resiliency plan could mean the difference between business continuity or closure.</span></p>\n\n<p style="box-sizing: border-box\; margin: 0px\; padding: 0px\;"><span style="box-sizing: border-box\;">Join Grow with Google and America&rsquo\;s SBDC for a no-cost&nbsp\;Business Resiliency webinar\, &quot\;Keeping the Lights On&quot\;.&nbsp\;This webinar includes an introduction to a 25-page guide to help small business owners prepare to respond quickly and recover from disruptions. Webinar participants will receive the &lsquo\;<i style="box-sizing: border-box\;">Business Resiliency Guide</i>&rsquo\; and a &lsquo\;<i style="box-sizing: border-box\;">Business Resiliency Plan</i>&rsquo\; template they can customize to meet the specific needs of their business.</span></p>\n\n<p style="box-sizing: border-box\; margin: 0px\; padding: 0px\;"><span style="box-sizing: border-box\;">&nbsp\;</span></p>\n\n<p style="box-sizing: border-box\; margin: 0px\; padding: 0px\;"><span style="box-sizing: border-box\;">Keeping the Lights On will cover how to:</span></p>\n\n<p style="box-sizing: border-box\; margin: 0px\; padding: 0px\;"><span style="box-sizing: border-box\;"><span style="box-sizing: border-box\; font-size: 10pt\; font-family: Symbol\;">&middot\;</span><span style="box-sizing: border-box\; font-size: 7pt\;">&nbsp\;</span><span style="box-sizing: border-box\; font-size: 9pt\; font-family: Arial\;">Identify your critical resources</span></span></p>\n\n<p style="box-sizing: border-box\; margin: 0px\; padding: 0px\;"><span style="box-sizing: border-box\;"><span style="box-sizing: border-box\; font-size: 10pt\; font-family: Symbol\;">&middot\;</span><span style="box-sizing: border-box\; font-size: 7pt\;">&nbsp\;</span><span style="box-sizing: border-box\; font-size: 9pt\; font-family: Arial\;">Plan to use alternative resources</span></span></p>\n\n<p style="box-sizing: border-box\; margin: 0px\; padding: 0px\;"><span style="box-sizing: border-box\;"><span style="box-sizing: border-box\; font-size: 10pt\; font-family: Symbol\;">&middot\;</span><span style="box-sizing: border-box\; font-size: 7pt\;">&nbsp\;</span><span style="box-sizing: border-box\; font-size: 9pt\; font-family: Arial\;">Respond with your plan</span></span></p>\n\n<p style="box-sizing: border-box\; margin: 0px\; padding: 0px\;"><span style="box-sizing: border-box\;"><span style="box-sizing: border-box\; font-size: 10pt\; font-family: Symbol\;">&middot\;</span><span style="box-sizing: border-box\; font-size: 7pt\;">&nbsp\;</span><span style="box-sizing: border-box\; font-size: 9pt\; font-family: Arial\;">Bring your business back to normal</span></span></p>\n\n<p style="box-sizing: border-box\; margin: 0px\; padding: 0px\;"><span style="box-sizing: border-box\;">&nbsp\;</span></p>\n\n<p style="box-sizing: border-box\; margin: 0px\; padding: 0px\;"><span style="box-sizing: border-box\;">Includes FAQs from previous webinars</span></p>\n\n<p style="box-sizing: border-box\; margin: 0px\; padding: 0px\;"><span style="box-sizing: border-box\;">&nbsp\;</span></p>\n\n<p style="box-sizing: border-box\; margin: 0px\; padding: 0px\;"><span style="box-sizing: border-box\;"><span style="box-sizing: border-box\; font-size: 9pt\; font-family: Arial\;">This webinar will not cover information regarding the current disaster loans. Please go to&nbsp\;<a href="http://sba.gov/" rel="noopener" style="box-sizing: border-box\; background-color: transparent\; color: rgb(123\, 31\, 162)\; text-decoration-line: none\; transition: all 0.25s ease 0s\; cursor: pointer\; letter-spacing: 0.5px\;" target="_blank">sba.gov</a>&nbsp\;for current Coronavirus relief options.</span></span></p>\n\n<p style="box-sizing: border-box\; margin: 0px\; padding: 0px\;"><span style="box-sizing: border-box\;">&nbsp\;</span></p>\n\n<p style="box-sizing: border-box\; margin: 0px\; padding: 0px\;"><span style="box-sizing: border-box\;">Grow with Google will help you :</span></p>\n\n<p style="box-sizing: border-box\; margin: 0px\; padding: 0px\;"><span style="box-sizing: border-box\;">&nbsp\;</span></p>\n\n<p style="box-sizing: border-box\; margin: 0px\; padding: 0px\;"><span style="box-sizing: border-box\;"><span style="box-sizing: border-box\; font-size: 10pt\; font-family: Symbol\;">&middot\;</span><span style="box-sizing: border-box\; font-size: 7pt\;">&nbsp\;</span><span style="box-sizing: border-box\; font-size: 9pt\; font-family: Arial\;">Discover Google tools that can help you work and manage your business during this time of uncertainty</span></span></p>\n\n<p style="box-sizing: border-box\; margin: 0px\; padding: 0px\;"><span style="box-sizing: border-box\;"><span style="box-sizing: border-box\; font-size: 10pt\; font-family: Symbol\;">&middot\;</span><span style="box-sizing: border-box\; font-size: 7pt\;">&nbsp\;</span><span style="box-sizing: border-box\; font-size: 9pt\; font-family: Arial\;">Get insights on more online and timely resources for small businesses</span></span></p>\n\n<p style="box-sizing: border-box\; margin: 0px\; padding: 0px\;"><span style="box-sizing: border-box\;">&nbsp\;</span></p>\n\n<p style="box-sizing: border-box\; margin: 0px\; padding: 0px\;"><span style="box-sizing: border-box\;">This webinar takes place at <span style="box-sizing: border-box\; font-size: 14px\;">1:00 p.m. EDT</span></span></p>\n\n<p style="box-sizing: border-box\; margin: 0px\; padding: 0px\;"><span style="box-sizing: border-box\;">&nbsp\;</span></p>\n\n<p style="box-sizing: border-box\; margin: 0px\; padding: 0px\;"><span style="box-sizing: border-box\;">A Zoom webinar link will be included in reminder emails before the event.</span></p>\n\n<p style="box-sizing: border-box\; margin: 0px\; padding: 0px\;"><span style="box-sizing: border-box\;">&nbsp\;</span></p>\n\n<p style="box-sizing: border-box\; margin: 0px\; padding: 0px\;"><span style="box-sizing: border-box\;"><span style="box-sizing: border-box\; font-size: 9pt\; font-family: Arial\;">Zoom security protocols now require each participant have a Zoom account and be signed into their account from their computer or mobile device.&nbsp\;</span><a href="https://zoom.us/" style="box-sizing: border-box\; background-color: transparent\; color: rgb(123\, 31\, 162)\; text-decoration-line: none\; transition: all 0.25s ease 0s\; cursor: pointer\; letter-spacing: 0.5px\; font-size: 11pt\; font-family: Calibri\;" target="_blank">https://zoom.us/</a></span></p>\n</lightning-formatted-rich-text></div>\n\n<div class="slds-p-around_medium slds-size_12-of-12" data-aura-rendered-by="551:0" style="box-sizing: border-box\; padding: 1rem\; width: 861.328px\; flex: 0 0 auto\; color: rgb(65\, 65\, 65)\; font-family: &quot\;Google Sans&quot\;\, Roboto\, Arial\, sans-serif\; font-size: 13px\; background-color: rgb(255\, 255\, 255)\;">\n<h4 class="slds-p-bottom_medium cGYBO_Base cGYBO_EventDetailBase" data-aura-class="cGYBO_Base cGYBO_EventDetailBase" data-aura-rendered-by="538:0" style="box-sizing: border-box\; margin: 0px\; padding: 0px 0px 1rem\; font-weight: 400\; font-size: 22px\; line-height: 30px\; letter-spacing: 0px\;">Google partner hosting this event:</h4>\n\n<h5 class="cGYBO_Base cGYBO_EventDetailBase" data-aura-class="cGYBO_Base cGYBO_EventDetailBase" data-aura-rendered-by="540:0" style="box-sizing: border-box\; margin: 0px\; padding: 0px\; font-weight: 400\; font-size: 18px\; line-height: 30px\; letter-spacing: 0px\;">Washington SBDC State Office</h5>\n</div>\n\n<div class="slds-p-around_medium slds-size_12-of-12" data-aura-rendered-by="569:0" style="box-sizing: border-box\; padding: 1rem\; width: 861.328px\; flex: 0 0 auto\; color: rgb(65\, 65\, 65)\; font-family: &quot\;Google Sans&quot\;\, Roboto\, Arial\, sans-serif\; font-size: 13px\; background-color: rgb(255\, 255\, 255)\;">\n<h4 class="cGYBO_Base cGYBO_EventDetailBase" data-aura-class="cGYBO_Base cGYBO_EventDetailBase" data-aura-rendered-by="557:0" style="box-sizing: border-box\; margin: 0px\; padding: 0px\; font-weight: 400\; font-size: 22px\; line-height: 30px\; letter-spacing: 0px\;">Additional Partners:</h4>\n\n<p class="cGYBO_Base cGYBO_EventDetailBase" data-aura-class="cGYBO_Base cGYBO_EventDetailBase" data-aura-rendered-by="560:0" style="box-sizing: border-box\; margin: 0px\; padding: 0px\;">America&#39\;s SBDC Grow with Google</p>\n</div>\n
LOCATION:
UID:e.2912.2858
SEQUENCE:3
DTSTAMP:20260420T010534Z
URL:https://members.bardstownchamber.com/events/details/keeping-the-lights-on-build-a-business-resiliency-plan-with-google-2858
END:VEVENT

END:VCALENDAR
