BEGIN:VCALENDAR
VERSION:2.0
PRODID:-//ChamberMaster//Event Calendar 2.0//EN
METHOD:PUBLISH
X-PUBLISHED-TTL:P3D
REFRESH-INTERVAL:P3D
CALSCALE:GREGORIAN
BEGIN:VEVENT
DTSTART:20180914T160000Z
DTEND:20180916T220000Z
X-MICROSOFT-CDO-ALLDAYEVENT:FALSE
SUMMARY:KBF The Great Lawn
DESCRIPTION:The Great Lawn at the Kentucky Bourbon Festival  is open Friday\, Saturday\, and Sunday and fees vary by event. Events include: Arts & Crafts\, KY Proud & Distillery Booths\; Music on the Lawn\; Family fun Area\; Food Court\; Bourbontowne \; Spirit Garden \; The Ancient Craft of Barrel Making\; Whiskey City Cruisers Vehicle Show\; World Championship Bourbon Barrel Relay .
X-ALT-DESC;FMTTYPE=text/html:The Great Lawn at the Kentucky Bourbon Festival&reg\; is open Friday\, Saturday\, and Sunday and fees vary by event. Events include: Arts &amp\; Crafts\, KY Proud &amp\; Distillery Booths\; Music on the Lawn\; Family fun Area\; Food Court\; Bourbontowne&trade\;\; Spirit Garden&trade\;\; The Ancient Craft of Barrel Making\; Whiskey City Cruisers Vehicle Show\; World Championship Bourbon Barrel Relay&reg\;.
LOCATION:The Lawn at Spalding Hall & City Hall 114/220 N. Fifth St.\, Bardstown\, KY 40004
UID:e.2912.1503
SEQUENCE:3
DTSTAMP:20260419T195018Z
URL:https://members.bardstownchamber.com/events/details/kbf-the-great-lawn-1503
END:VEVENT

END:VCALENDAR
