BEGIN:VCALENDAR
VERSION:2.0
PRODID:-//ChamberMaster//Event Calendar 2.0//EN
METHOD:PUBLISH
X-PUBLISHED-TTL:P3D
REFRESH-INTERVAL:P3D
CALSCALE:GREGORIAN
BEGIN:VEVENT
DTSTART:20180913T160000Z
DTEND:20180916T210000Z
X-MICROSOFT-CDO-ALLDAYEVENT:FALSE
SUMMARY:KBF Loft VIP Experience
DESCRIPTION:From Thursday through Sunday\, enhance your KBF experience with our premium VIP package. Relax in an exclusive penthouse retreat that offers panoramic views of the Great Lawn. Enjoy a private bar with premium spirits and classic Kentucky cuisine in the comfort of an air-conditioned lounge\, complete with WiFi access and private restroom. Visit with Bourbon Dignitaries of all kinds in an intimate setting.
X-ALT-DESC;FMTTYPE=text/html:From Thursday through Sunday\, enhance your KBF experience with our premium VIP package. Relax in an exclusive penthouse retreat that offers panoramic views of the Great Lawn. Enjoy a private bar with premium spirits and classic Kentucky cuisine in the comfort of an air-conditioned lounge\, complete with WiFi access and private restroom. Visit with Bourbon Dignitaries of all kinds in an intimate setting.
LOCATION:Kentucky Bourbon Festival Penthouse
UID:e.2912.1502
SEQUENCE:3
DTSTAMP:20260419T194157Z
URL:https://members.bardstownchamber.com/events/details/kbf-loft-vip-experience-1502
END:VEVENT

END:VCALENDAR
