BEGIN:VCALENDAR
VERSION:2.0
PRODID:-//ChamberMaster//Event Calendar 2.0//EN
METHOD:PUBLISH
X-PUBLISHED-TTL:P3D
REFRESH-INTERVAL:P3D
CALSCALE:GREGORIAN
BEGIN:VEVENT
DTSTART:20190627T130000Z
DTEND:20190627T140000Z
X-MICROSOFT-CDO-ALLDAYEVENT:FALSE
SUMMARY:June Connect PEDDLERS MALL & FRESH
DESCRIPTION:Connect  \n\nA place for our members to connect & network with other business members.\n\nPeddlers Mall- stores are located throughout Kentucky\, and well known within the Antique & Collectible community.open 7 days a week\,each store has hundreds of vendors who lease booth space for the purpose of displaying and selling their remarkable products.For more information on becoming a vendor visit your Peddlers Mall today!! \n\nFresh Coffee Patries & More- Coffee Shop   Restaurant Homemade pastries & more. Fresh coffee and Teas made to order. A fresh lunch that changes everyday and is made to order.
X-ALT-DESC;FMTTYPE=text/html:<span style="font-size:16px\;"><strong>Connect&nbsp\;&nbsp\;</strong><br />\nA place for our members to connect &amp\; network with other business members.<br />\n<span style="color: rgb(51\, 51\, 51)\; font-family: Roboto\, Georgia\, serif\; background-color: rgb(255\, 255\, 255)\;"><strong>Peddlers Mall-</strong> stores are located throughout Kentucky\, and well known within the Antique &amp\; Collectible community.open 7 days a week\,each store has hundreds of vendors who lease booth space for the purpose of displaying and selling their remarkable products.For more information on becoming a vendor visit your Peddlers Mall today!!&nbsp\;<br />\n<strong>Fresh Coffee Patries &amp\; More-&nbsp\;</strong></span><a href="https://www.facebook.com/search/pages/?q=Coffee+Shop&amp\;ref=page_about_category_reaction_unit" style="color: rgb(56\, 88\, 152)\; cursor: pointer\; font-family: Helvetica\, Arial\, sans-serif\; font-size: 14px\; background-color: rgb(255\, 255\, 255)\;">Coffee Shop</a><span style="color: rgb(59\, 89\, 152)\; font-family: Helvetica\, Arial\, sans-serif\; background-color: rgb(255\, 255\, 255)\;">&nbsp\;&middot\;&nbsp\;</span><a href="https://www.facebook.com/search/pages/?q=Restaurant&amp\;ref=page_about_category_reaction_unit" style="color: rgb(56\, 88\, 152)\; cursor: pointer\; text-decoration-line: none\; font-family: Helvetica\, Arial\, sans-serif\; font-size: 14px\; background-color: rgb(255\, 255\, 255)\;">Restaurant</a>&nbsp\;Homemade pastries &amp\; more. Fresh coffee and Teas made to order. A fresh lunch that changes everyday and is made to order.&nbsp\;</span>
LOCATION:1020 Granite Dr\, Bardstown Ky 40004
UID:e.2912.1681
SEQUENCE:3
DTSTAMP:20260421T083038Z
URL:https://members.bardstownchamber.com/events/details/june-connect-peddlers-mall-fresh-1681
END:VEVENT

END:VCALENDAR
