BEGIN:VCALENDAR
VERSION:2.0
PRODID:-//ChamberMaster//Event Calendar 2.0//EN
METHOD:PUBLISH
X-PUBLISHED-TTL:P3D
REFRESH-INTERVAL:P3D
CALSCALE:GREGORIAN
BEGIN:VEVENT
DTSTART:20221018T140000Z
DTEND:20221018T180000Z
X-MICROSOFT-CDO-ALLDAYEVENT:FALSE
SUMMARY:Job Fair- Open to the Public
DESCRIPTION:Meet Local Restaurants\, Distilleries\, and Hotels with job opportunities and careers.
X-ALT-DESC;FMTTYPE=text/html:Meet Local Restaurants\, Distilleries\, and Hotels with job opportunities and careers.&nbsp\;
LOCATION:Civic Center 321 S. 3rd Street Bardstown\, KY 40004
UID:e.2912.3177
SEQUENCE:3
DTSTAMP:20260419T145457Z
URL:https://members.bardstownchamber.com/events/details/job-fair-open-to-the-public-3177
END:VEVENT

END:VCALENDAR
