BEGIN:VCALENDAR
VERSION:2.0
PRODID:-//ChamberMaster//Event Calendar 2.0//EN
METHOD:PUBLISH
X-PUBLISHED-TTL:P3D
REFRESH-INTERVAL:P3D
CALSCALE:GREGORIAN
BEGIN:VEVENT
DTSTART:20170407T150000Z
DTEND:20170407T170000Z
X-MICROSOFT-CDO-ALLDAYEVENT:FALSE
SUMMARY:Jim Cantrell Reception
DESCRIPTION:Jim Cantrell is the first Kentucky native to have his art work chosen to represent the Kentucky Derby. Come show your support for this talented local and celebrate his accomplishment! Cantrell will have several images on products such as mugs\, tote bags\, t-shirts\, notecards\, beer steins etc.!  \n\n Food\, drinks and desserts will also be served!
X-ALT-DESC;FMTTYPE=text/html:&#8203\;Jim <span style="language:en-US\;">Cantrell is the first Kentucky native to have his art work chosen to represent the Kentucky Derby.&nbsp\;Come show your support for this talented local and celebrate his accomplishment! Cantrell will have several&nbsp\;images on products such as mugs\, tote bags\, t-shirts\, notecards\, beer steins etc.!&nbsp\;&nbsp\;<br />\n&#8203\;Food\, drinks and desserts will also be served!&nbsp\;</span><br />\n&nbsp\;
LOCATION:The Welcome Center\, One Court Square
UID:e.2912.355
SEQUENCE:3
DTSTAMP:20260424T172006Z
URL:https://members.bardstownchamber.com/events/details/jim-cantrell-reception-355
END:VEVENT

END:VCALENDAR
