BEGIN:VCALENDAR
VERSION:2.0
PRODID:-//ChamberMaster//Event Calendar 2.0//EN
METHOD:PUBLISH
X-PUBLISHED-TTL:P3D
REFRESH-INTERVAL:P3D
CALSCALE:GREGORIAN
BEGIN:VEVENT
DTSTART:20181006T230000Z
DTEND:20181007T040000Z
X-MICROSOFT-CDO-ALLDAYEVENT:FALSE
SUMMARY:Jeans & Jams
DESCRIPTION:Please join the Guthrie Opportunity Center for a great evening of food and music that will raise funds for our programs to support the developmentally disabled of Nelson County. We will be barbecuing and then turning over the entertainment to "From Paris"\, a high energy band that will be playing favorites from years past. Don't miss out on this great evening of fun for a terrific cause.
X-ALT-DESC;FMTTYPE=text/html:Please join the Guthrie Opportunity Center for a great evening of food and music that will raise funds for our programs to support the developmentally disabled of Nelson County. We will be barbecuing and then turning over the entertainment to &quot\;From Paris&quot\;\, a high energy band that will be playing favorites from years past. Don&#39\;t miss out on this great evening of fun for a terrific cause.
LOCATION:Guthrie Opportunity Center 900 Nutter Drive Bardstown\, KY
UID:e.2912.1558
SEQUENCE:3
DTSTAMP:20260419T181555Z
URL:https://members.bardstownchamber.com/events/details/jeans-jams-1558
END:VEVENT

END:VCALENDAR
