BEGIN:VCALENDAR
VERSION:2.0
PRODID:-//ChamberMaster//Event Calendar 2.0//EN
METHOD:PUBLISH
X-PUBLISHED-TTL:P3D
REFRESH-INTERVAL:P3D
CALSCALE:GREGORIAN
BEGIN:VEVENT
DTSTART:20181018T140000Z
DTEND:20181018T180000Z
X-MICROSOFT-CDO-ALLDAYEVENT:FALSE
SUMMARY:Isaiah House Treatment center Pastor Symposium
DESCRIPTION:Lunch provided Pastors and church leaders invited. Rsvp 859-481-4612\n\nor email  jordan.wilson@Isaish-house.org
X-ALT-DESC;FMTTYPE=text/html:Lunch provided Pastors and church leaders invited. Rsvp 859-481-4612<br />\nor email&nbsp\; jordan.wilson@Isaish-house.org
LOCATION:
UID:e.2912.1594
SEQUENCE:3
DTSTAMP:20260419T182117Z
URL:https://members.bardstownchamber.com/events/details/isaiah-house-treatment-center-pastor-symposium-1594
END:VEVENT

END:VCALENDAR
