BEGIN:VCALENDAR
VERSION:2.0
PRODID:-//ChamberMaster//Event Calendar 2.0//EN
METHOD:PUBLISH
X-PUBLISHED-TTL:P3D
REFRESH-INTERVAL:P3D
CALSCALE:GREGORIAN
BEGIN:VEVENT
DTSTART:20190812T230500Z
DTEND:20190813T020000Z
X-MICROSOFT-CDO-ALLDAYEVENT:FALSE
SUMMARY:Isaiah House Night with the Lexington Legends
DESCRIPTION:On Monday\, August 12\, Isaiah House will take over the baseball game between the Lexington Legends and the Hickory Crawdads.  We will throw out the first pitch\, be featured in promoting throughout the night\, and much more.  \n\nWe want you to come celebrate this event with us and enjoy a great night of family fun! \n\nTickets are $5 each and all proceeds go directly to Isaiah House.  \n\n\n\nGet yours today!\n\n\n\nCall (859) 516-3632
X-ALT-DESC;FMTTYPE=text/html:On Monday\, August 12\, Isaiah House will take over the baseball game between the Lexington Legends and the Hickory Crawdads.&nbsp\; We will throw out the first pitch\, be featured in promoting throughout the night\, and much more.&nbsp\;&nbsp\;<br />\nWe want you to come celebrate this event with us and enjoy a great night of family fun!&nbsp\;<br />\nTickets are $5 each and all proceeds go directly to Isaiah House.&nbsp\;&nbsp\;<br />\n<br />\nGet yours today!<br />\n<br />\nCall (859) 516-3632
LOCATION:Lexington Legends 207 Legends Lane Lexington\, KY 40505
UID:e.2912.1784
SEQUENCE:3
DTSTAMP:20260419T133036Z
URL:https://members.bardstownchamber.com/events/details/isaiah-house-night-with-the-lexington-legends-1784
END:VEVENT

END:VCALENDAR
