BEGIN:VCALENDAR
VERSION:2.0
PRODID:-//ChamberMaster//Event Calendar 2.0//EN
METHOD:PUBLISH
X-PUBLISHED-TTL:P3D
REFRESH-INTERVAL:P3D
CALSCALE:GREGORIAN
BEGIN:VEVENT
DTSTART:20180704T223000Z
DTEND:20180705T030000Z
X-MICROSOFT-CDO-ALLDAYEVENT:FALSE
SUMMARY:Independence Day Fireworks Display\, Presented by Newcomb Oil
DESCRIPTION:July 4 - Hey everyone\, it's Stephen's Birthday! Join us on Wednesday\, July 4th as we commemorate the 192nd anniversary of Stephen Foster's birth and celebrate our nation's Independence Day. Featuring a host of family-friendly activities before the show\, cupcakes for everyone at intermission\, and a magical fireworks display to cap off the evening. 6:30 p.m. - 11 p.m. www.stephenfoster.com
X-ALT-DESC;FMTTYPE=text/html:<span style="font-family: Arial\, Helvetica\, sans-serif\; font-size: 14px\;">July 4 - Hey everyone\, it&rsquo\;s Stephen&rsquo\;s Birthday! Join us on Wednesday\, July 4th as we commemorate the 192nd anniversary of Stephen Foster&rsquo\;s birth and celebrate our nation&rsquo\;s Independence Day. Featuring a host of family-friendly activities before the show\, cupcakes for everyone at intermission\, and a magical fireworks display to cap off the evening. 6:30 p.m. - 11 p.m. www.stephenfoster.com</span>
LOCATION:
UID:e.2912.1443
SEQUENCE:3
DTSTAMP:20260419T224740Z
URL:https://members.bardstownchamber.com/events/details/independence-day-fireworks-display-presented-by-newcomb-oil-1443
END:VEVENT

END:VCALENDAR
