BEGIN:VCALENDAR
VERSION:2.0
PRODID:-//ChamberMaster//Event Calendar 2.0//EN
METHOD:PUBLISH
X-PUBLISHED-TTL:P3D
REFRESH-INTERVAL:P3D
CALSCALE:GREGORIAN
BEGIN:VEVENT
DTSTART:20191216T233000Z
DTEND:20191217T020000Z
X-MICROSOFT-CDO-ALLDAYEVENT:FALSE
SUMMARY:#IamHer Domestic Violence Conference
DESCRIPTION:
X-ALT-DESC;FMTTYPE=text/html:
LOCATION:Bardstown Civic Center 321 S Third Street Bardstown\, KY 40004
UID:e.2912.2822
SEQUENCE:3
DTSTAMP:20260419T181758Z
URL:https://members.bardstownchamber.com/events/details/iamher-domestic-violence-conference-2822
END:VEVENT

END:VCALENDAR
