BEGIN:VCALENDAR
VERSION:2.0
PRODID:-//ChamberMaster//Event Calendar 2.0//EN
METHOD:PUBLISH
X-PUBLISHED-TTL:P3D
REFRESH-INTERVAL:P3D
CALSCALE:GREGORIAN
BEGIN:VEVENT
DTSTART:20200812T140000Z
DTEND:20200812T160000Z
X-MICROSOFT-CDO-ALLDAYEVENT:FALSE
SUMMARY:How to Zoom Basics & Zoom Advanced
DESCRIPTION:Take one or both sessions! \n\n10am - 11am / Zoom Basics\n\nZoom is a teleconferencing and web collaboration tool that can be used for meetings\, distance education and social relations.  This class will introduce you to the basics of using Zoom\, including how to invite/join a meeting\, recording a meeting\, test your speaker/microphone\, share your screen and how to use break out rooms. \n\n\n\n11am - Noon / Zoom Advanced\n\nGet a more advanced look into how Zoom works!  \n\nThe class is FREE!
X-ALT-DESC;FMTTYPE=text/html:Take one or both sessions!&nbsp\;<br />\n10am - 11am / Zoom Basics<br />\nZoom is a teleconferencing and web collaboration tool that can be used for meetings\, distance education and social relations.&nbsp\; This class will introduce you to the basics of using Zoom\, including how to invite/join a meeting\, recording a meeting\, test your speaker/microphone\, share your screen and how to use break out rooms.&nbsp\;<br />\n<br />\n11am - Noon / Zoom Advanced<br />\nGet a more advanced look into how Zoom works!&nbsp\;&nbsp\;<br />\nThe class is FREE!&nbsp\;
LOCATION:Online- link to join the class will be sent to your email after registration.
UID:e.2912.2878
SEQUENCE:3
DTSTAMP:20260420T053846Z
URL:https://members.bardstownchamber.com/events/details/how-to-zoom-basics-zoom-advanced-2878
END:VEVENT

END:VCALENDAR
