BEGIN:VCALENDAR
VERSION:2.0
PRODID:-//ChamberMaster//Event Calendar 2.0//EN
METHOD:PUBLISH
X-PUBLISHED-TTL:P3D
REFRESH-INTERVAL:P3D
CALSCALE:GREGORIAN
BEGIN:VEVENT
DTSTART:20171207T170000Z
DTEND:20171207T180000Z
X-MICROSOFT-CDO-ALLDAYEVENT:FALSE
SUMMARY:Honoring Elected Officials December 2017
DESCRIPTION:Join Us in Honoring our Elected Officials!\n\n\n\nIn March of 2012\, a tornado ripped through the town of Henryville\, Indiana. Stephanie Decker\, a 37- year-old mother of three\, found herself in a life-altering moment. As her house began to disintegrate around her\, she shielded her two young children with her body. Her dream home fell in\, crushing her legs\, but because of her heroic actions\, Stephanie's children were amazingly unscathed. It was a miracle that she even survived and made it to the hospital. At that point\, doctors determined that parts of both legs would need to be amputated.\n\n\n\nSince the accident\, Stephanie has been featured on... The Today Show\, The Ellen Degeneres Show\, ABC World News Tonight as "Person of the Week"\, USA Today\,USA Weekend\, and People Magazine.\n\n\n\nStephanie Decker has become a true symbol of survival and overcoming adversity.
X-ALT-DESC;FMTTYPE=text/html:Join Us in Honoring our Elected Officials!<br />\n<br />\nIn March of 2012\, a tornado ripped through the town of Henryville\, Indiana. Stephanie Decker\, a 37- year-old mother of three\, found herself in a life-altering moment. As her house began to disintegrate around her\, she shielded her two young children with her body. Her dream home fell in\, crushing her legs\, but because of her heroic actions\, Stephanie&#39\;s children were amazingly unscathed. It was a miracle that she even survived and made it to the hospital. At that point\, doctors determined that parts of both legs would need to be amputated.<br />\n<br />\nSince the accident\, Stephanie has been featured on... The Today Show\, The Ellen Degeneres Show\, ABC World News Tonight as &quot\;Person of the Week&quot\;\, USA Today\,USA Weekend\, and People Magazine.<br />\n<br />\nStephanie Decker has become a true symbol of survival and overcoming adversity.
LOCATION:LOCATION HAS CHANGED! My Old Kentucky Home Country Club 529 E Stephen Foster Ave. Bardstown\, KY 40004
UID:e.2912.381
SEQUENCE:3
DTSTAMP:20260422T081639Z
URL:https://members.bardstownchamber.com/events/details/honoring-elected-officials-december-2017-381
END:VEVENT

END:VCALENDAR
