BEGIN:VCALENDAR
VERSION:2.0
PRODID:-//ChamberMaster//Event Calendar 2.0//EN
METHOD:PUBLISH
X-PUBLISHED-TTL:P3D
REFRESH-INTERVAL:P3D
CALSCALE:GREGORIAN
BEGIN:VEVENT
DTSTART:20181213T170000Z
DTEND:20181213T180000Z
X-MICROSOFT-CDO-ALLDAYEVENT:FALSE
SUMMARY:Honoring Elected Officials & 2018 Community Update
DESCRIPTION:Join Us in Honoring our Elected Officials and get Community Updates
X-ALT-DESC;FMTTYPE=text/html:Join Us in Honoring our Elected Officials and get Community Updates&nbsp\;<br />\n<br />\n&nbsp\;
LOCATION:My Old Kentucky Home Country Club Sponsored by Jim Beam & LG&E
UID:e.2912.1436
SEQUENCE:3
DTSTAMP:20260419T145300Z
URL:https://members.bardstownchamber.com/events/details/honoring-elected-officials-2018-community-update-1436
END:VEVENT

END:VCALENDAR
